BEGIN:VCALENDAR
VERSION:2.0
PRODID:-//HaystackID - ECPv6.15.20//NONSGML v1.0//EN
CALSCALE:GREGORIAN
METHOD:PUBLISH
X-ORIGINAL-URL:https://haystackid.com
X-WR-CALDESC:Events for HaystackID
REFRESH-INTERVAL;VALUE=DURATION:PT1H
X-Robots-Tag:noindex
X-PUBLISHED-TTL:PT1H
BEGIN:VTIMEZONE
TZID:UTC
BEGIN:STANDARD
TZOFFSETFROM:+0000
TZOFFSETTO:+0000
TZNAME:UTC
DTSTART:20210101T000000
END:STANDARD
END:VTIMEZONE
BEGIN:VEVENT
DTSTART;VALUE=DATE:20220906
DTEND;VALUE=DATE:20220910
DTSTAMP:20260422T134349
CREATED:20220418T234227Z
LAST-MODIFIED:20220818T165239Z
UID:10001565-1662422400-1662767999@haystackid.com
SUMMARY:PFIC 2022 - Live and Virtual
DESCRIPTION:Join HaystackID Live and Virtually at PFIC 2022 \nJoin HaystackID as we support and participate in PFIC 2022\, the best in digital data training covering a broad range of topics from DFIR and OSINT to eDiscovery and ransomware. \nThis year’s event will be hosted at the Marriot Vanderbilt location in Nashville\, Tennessee. The event is broken into 2-two hour training sessions on Sept 6th\, the main lecture tracks on Sept 7th and 8th\, and 2-two hour training sessions on Sept 9th. The live and virtual components of this industry-acknowledged conference and training event ensure quality and relevant content for cybersecurity\, information governance\, and legal discovery professionals. \nExpert Presentations \n+ Cryptocurrency Ins and Outs (Training)\nTuesday\, September 6 at 3:00pm – 5:00pm CST\nJohn Wilson\, Chief Information Security Officer and President of Forensics\, HaystackID\n \nWith the increasing importance of privacy and security in today’s business world coupled with the advancement and acceptance of cryptocurrencies such as Bitcoin and Ethereum\, today’s digital forensic professional is behind the proverbial power curve if they do not have a basic understanding of emerging blockchain\, cryptocurrency\, and digital asset technologies. During this session we will cover the following topics: Understand blockchain and transaction technologies; Examine raw data on blockchain ledgers; Research information about specific addresses and transactions; discuss exchanges; lastly talk about NFTs or blockchain-based digital assets.\n \n+ MEDAL Tales: Advanced solutions when push-button mobile forensics won’t do\nThursday\, September 8 at 10:30am-11:30am CST\nRene Novoa\, Director of Forensics\, HaystackID \nAdvanced mobile solutions are needed to combat today’s security challenges that require more than just push-button mobile forensics. Methodologies must include more than a single tool approach to uncover the truth. The popularity and usage of encrypted messaging applications like WhatsApp\, Signal\, and Telegram have skyrocketed over the years making accessible and collection methods crucial to every investigation. Forensic professionals must think creatively about solutions if they are going to find the needle in the haystack. This presentation will cover real case information and methodologies used to gain access to data and results that were thought to be only obtainable by law enforcement. \nConnect with HaystackID \nHaystackID also welcomes the prospect of discussing your current eDiscovery challenges\, how they impact your organization\, and how we may be able to help you solve those challenges. Reach out to our cyber\, data\, and legal discovery experts today to request a meeting. \n\nJohn Wilson\, Chief Information Security Officer and President of Forensics\, HaystackID\nRene Novoa\, Director of Forensics\, HaystackID\n\nConnect with a HaystackID Expert at PFIC 2022\nAbout HaystackID® \nHaystackID is a specialized eDiscovery services firm that helps corporations and law firms securely find\, understand\, and learn from data when facing complex\, data-intensive investigations and litigation. HaystackID mobilizes industry-leading cyber discovery services\, enterprise solutions\, and legal discovery offerings to serve more than 500 of the world’s leading corporations and law firms in North America and Europe. Serving nearly half of the Fortune 100\, HaystackID is an alternative cyber and legal services provider that combines expertise and technical excellence with a culture of white-glove customer service. In addition to consistently being ranked by Chambers USA\, the company was recently named a worldwide leader in eDiscovery Services by IDC MarketScape and a representative vendor in the Gartner Market Guide for E-Discovery Solutions. Further\, HaystackID has achieved SOC 2 Type II attestation in the five trust service areas of security\, availability\, processing integrity\, confidentiality\, and privacy. For more information about its suite of services\, including programs and solutions for unique legal enterprise needs\, go to HaystackID.com. \nSource: HaystackID \n 
URL:https://haystackid.com/event/pfic-2022-live-and-virtual/
LOCATION:Marriot Vanderbilt – Nashville\, 2555 West End Avenue\, Nashville\, TN\, 37203\, United States
ATTACH;FMTTYPE=image/jpeg:https://haystackid.com/wp-content/uploads/2022/04/Nashville.jpeg
END:VEVENT
END:VCALENDAR