BEGIN:VCALENDAR
VERSION:2.0
PRODID:-//HaystackID - ECPv6.15.20//NONSGML v1.0//EN
CALSCALE:GREGORIAN
METHOD:PUBLISH
X-ORIGINAL-URL:https://haystackid.com
X-WR-CALDESC:Events for HaystackID
REFRESH-INTERVAL;VALUE=DURATION:PT1H
X-Robots-Tag:noindex
X-PUBLISHED-TTL:PT1H
BEGIN:VTIMEZONE
TZID:America/New_York
BEGIN:DAYLIGHT
TZOFFSETFROM:-0500
TZOFFSETTO:-0400
TZNAME:EDT
DTSTART:20230312T070000
END:DAYLIGHT
BEGIN:STANDARD
TZOFFSETFROM:-0400
TZOFFSETTO:-0500
TZNAME:EST
DTSTART:20231105T060000
END:STANDARD
BEGIN:DAYLIGHT
TZOFFSETFROM:-0500
TZOFFSETTO:-0400
TZNAME:EDT
DTSTART:20240310T070000
END:DAYLIGHT
BEGIN:STANDARD
TZOFFSETFROM:-0400
TZOFFSETTO:-0500
TZNAME:EST
DTSTART:20241103T060000
END:STANDARD
BEGIN:DAYLIGHT
TZOFFSETFROM:-0500
TZOFFSETTO:-0400
TZNAME:EDT
DTSTART:20250309T070000
END:DAYLIGHT
BEGIN:STANDARD
TZOFFSETFROM:-0400
TZOFFSETTO:-0500
TZNAME:EST
DTSTART:20251102T060000
END:STANDARD
END:VTIMEZONE
BEGIN:VEVENT
DTSTART;VALUE=DATE:20240921
DTEND;VALUE=DATE:20240922
DTSTAMP:20260425T131930
CREATED:20240904T194953Z
LAST-MODIFIED:20240904T194953Z
UID:10001826-1726876800-1726963199@haystackid.com
SUMMARY:Cancer Hope Network Gala
DESCRIPTION:Cancer Hope Network Gala\nThe Cancer Hope Network will host its ‘A Night in Monte Carlo’ gala\, a vibrant celebration that promotes the values of community and hope. The event will include various casino game tables\, a DJ\, and even a magician\, all contributing to the spirit of togetherness and support. \nAt HaystackID\, we believe in the power of hope and community. We proudly sponsor the Cancer Hope Network and celebrate the courage\, resilience\, and strength of cancer survivors. For over 40 years\, the Cancer Hope Network has been a beacon of hope\, providing connections and resources to over 50\,000 individuals facing cancer.   \nEvent Details\nThe Cancer Hope Network’s emotional support\, practical advice\, and effective coping methods have made a significant difference\, inspiring hope and creating a world where no one faces cancer alone.  \n+ Date: September 21\, 2024\n+ Venue: The Knoll Country Club\n+ Location: Boonton\, New Jersey \nTogether\, we can make cancer less isolating and scary. Learn more about the Cancer Hope Network and donate online.  \n  \n\nAt HaystackID\, we are committed to fostering a safe and respectful environment for all event participants. We stand firmly against all forms of inappropriate behavior. As part of our dedication to ensuring a harassment-free experience\, we actively support and adhere to the principles outlined by the American Sociological Association (ASA) Working Group on Harassment and the National Sexual Violence Resource Center (NSVRC) Employer’s Pledge. We encourage open dialogue\, immediate reporting of misconduct\, and strict adherence to our corporate responsibility efforts to protect our community’s integrity and well-being. Together\, let us create a welcoming and safe environment for all. \n 
URL:https://haystackid.com/event/cancer-hope-network-gala/
LOCATION:The Knoll Country Club\, 12 Knoll Dr\, Boonton\, NJ\, 07005\, United States
CATEGORIES:Industry Events
ATTACH;FMTTYPE=image/jpeg:https://haystackid.com/wp-content/uploads/2024/09/Cancer-Hope-Network-Gala.jpg
END:VEVENT
END:VCALENDAR