BEGIN:VCALENDAR
VERSION:2.0
PRODID:-//HaystackID - ECPv6.15.20//NONSGML v1.0//EN
CALSCALE:GREGORIAN
METHOD:PUBLISH
X-WR-CALNAME:HaystackID
X-ORIGINAL-URL:https://haystackid.com
X-WR-CALDESC:Events for HaystackID
REFRESH-INTERVAL;VALUE=DURATION:PT1H
X-Robots-Tag:noindex
X-PUBLISHED-TTL:PT1H
BEGIN:VTIMEZONE
TZID:America/New_York
BEGIN:DAYLIGHT
TZOFFSETFROM:-0500
TZOFFSETTO:-0400
TZNAME:EDT
DTSTART:20250309T070000
END:DAYLIGHT
BEGIN:STANDARD
TZOFFSETFROM:-0400
TZOFFSETTO:-0500
TZNAME:EST
DTSTART:20251102T060000
END:STANDARD
BEGIN:DAYLIGHT
TZOFFSETFROM:-0500
TZOFFSETTO:-0400
TZNAME:EDT
DTSTART:20260308T070000
END:DAYLIGHT
BEGIN:STANDARD
TZOFFSETFROM:-0400
TZOFFSETTO:-0500
TZNAME:EST
DTSTART:20261101T060000
END:STANDARD
BEGIN:DAYLIGHT
TZOFFSETFROM:-0500
TZOFFSETTO:-0400
TZNAME:EDT
DTSTART:20270314T070000
END:DAYLIGHT
BEGIN:STANDARD
TZOFFSETFROM:-0400
TZOFFSETTO:-0500
TZNAME:EST
DTSTART:20271107T060000
END:STANDARD
END:VTIMEZONE
BEGIN:VEVENT
DTSTART;VALUE=DATE:20260309
DTEND;VALUE=DATE:20260313
DTSTAMP:20260421T134850
CREATED:20250806T132110Z
LAST-MODIFIED:20260127T194544Z
UID:10001929-1773014400-1773359999@haystackid.com
SUMMARY:Legalweek 2026
DESCRIPTION:Legalweek 2026\nLegal practitioners are still navigating uncharted territory. From rapid advances in generative AI to the growing complexity of cyber risk\, data governance\, and the business of law\, legal teams are under pressure to modernize how they work—without sacrificing defensibility or client service. \nJoin HaystackID® as we sponsor Legalweek 2026\, renowned as one of the premier gatherings for legal technology\, the conference goes beyond a traditional trade show to offer deep expertise\, meaningful networking\, and hands-on exposure to the tools reshaping modern practice. \nExpert Presentation\nAutomated Logs\, Defensible Tags: AI-Driven Privilege Review without the Panic\nWednesday\, March 11\, 3:30 PM – 4:30 PM ET \nPrivilege review remains one of the most stressful\, labor-intensive phases of discovery—but it doesn’t have to be. As legal teams adopt AI to streamline tagging\, automate logging\, and reduce human error\, new questions emerge: What makes an AI-supported privilege process defensible? How do you maintain transparency\, accuracy\, and attorney oversight without slowing things down? This session explores practical\, real-world approaches to building a reliable\, audit-ready privilege workflow that blends human judgment with automation. Attendees will learn how modern tools can reduce the frenzy\, strengthen decision-making\, and create a repeatable privilege process that stands up in court. \nDiscussion topics include: \n\nDesigning an AI-supported privilege workflow that balances speed with defensibility\nImplementing quality controls\, validation protocols\, and attorney oversight for automated tagging\nReducing risk exposure through automated\, structured privilege logs that are consistent across matters\n\n+ Esther Birnbaum (Moderator)\, HaystackID\n+ Sam Sessler\, Norton Rose Fulbright US LLP\n+ Liz Gary\, Morgan Lewis & Bockius LLP\n+ Nirav Shah\, The Home Depot \nEvent Details  \n+ Date: March 9-12\, 2026\n+ Venue: North Javits Center\n+ Location: New York City\, NY \nLearn more and register for Legalweek 2026 using HaystackID’s code for a 30% discounted rate on a full conference pass: 1HAY30 \n2026 Legalweek Leaders in Tech Law Awards: HaystackID® Recognized for Legal Tech Excellence Across 7 Categories\n\nAt its core\, innovation in legal technology comes down to people—the visionaries\, problem-solvers\, and leaders who drive meaningful change. LegalTech News celebrates the individuals shaping the industry’s future with its 2026 Legalweek Leaders in Tech Law Awards. This year\, LegalTech News has recognized HaystackID’s commitment to driving meaningful change in our industry across seven award categories. \nLearn more about the seven categories that HaystackID has been recognized for here. \n\nElevate Your eDiscovery Strategy with CoreFlex™\nAs you visit with us at Legalweek 2026\, we invite you to explore how HaystackID’s CoreFlex offering can empower your legal and investigation team with a secure and scalable solution for managing legal data and discovery processes. Whether you’re looking to self-administer workflows with precision or seamlessly scale into full-service support\, CoreFlex delivers matter-centric control\, streamlined data processing\, near-real-time analytics\, and enterprise-grade compliance—all within a single pane of glass. Let us show you how you can gain operational efficiency\, reduce risk\, and drive predictable outcomes. Stop by our booth (booth 513) or schedule a demo and discover how HaystackID® CoreFlex positions your organization for what’s next in eDiscovery. \n  \n\nAt HaystackID\, we are committed to fostering a safe and respectful environment for all event participants. We stand firmly against all forms of inappropriate behavior. As part of our dedication to ensuring a harassment-free experience\, we actively support and adhere to the principles outlined by the American Sociological Association (ASA) Working Group on Harassment and the National Sexual Violence Resource Center (NSVRC) Employer’s Pledge. We encourage open dialogue\, immediate reporting of misconduct\, and strict adherence to our corporate responsibility efforts to protect our community’s integrity and well-being. Together\, let us create a welcoming and safe environment for all. \nAssisted by GAI and LLM technologies.
URL:https://haystackid.com/event/legalweek-2026/
LOCATION:North Javits Center\, 445 11th Ave\, New York\, NY\, 10001\, United States
CATEGORIES:Industry Events
ATTACH;FMTTYPE=image/png:https://haystackid.com/wp-content/uploads/2025/08/2026-Legalweek-New-York-1.png
END:VEVENT
END:VCALENDAR