BEGIN:VCALENDAR
VERSION:2.0
PRODID:-//HaystackID - ECPv6.15.20//NONSGML v1.0//EN
CALSCALE:GREGORIAN
METHOD:PUBLISH
X-WR-CALNAME:HaystackID
X-ORIGINAL-URL:https://haystackid.com
X-WR-CALDESC:Events for HaystackID
REFRESH-INTERVAL;VALUE=DURATION:PT1H
X-Robots-Tag:noindex
X-PUBLISHED-TTL:PT1H
BEGIN:VTIMEZONE
TZID:America/Chicago
BEGIN:DAYLIGHT
TZOFFSETFROM:-0600
TZOFFSETTO:-0500
TZNAME:CDT
DTSTART:20230312T080000
END:DAYLIGHT
BEGIN:STANDARD
TZOFFSETFROM:-0500
TZOFFSETTO:-0600
TZNAME:CST
DTSTART:20231105T070000
END:STANDARD
BEGIN:DAYLIGHT
TZOFFSETFROM:-0600
TZOFFSETTO:-0500
TZNAME:CDT
DTSTART:20240310T080000
END:DAYLIGHT
BEGIN:STANDARD
TZOFFSETFROM:-0500
TZOFFSETTO:-0600
TZNAME:CST
DTSTART:20241103T070000
END:STANDARD
BEGIN:DAYLIGHT
TZOFFSETFROM:-0600
TZOFFSETTO:-0500
TZNAME:CDT
DTSTART:20250309T080000
END:DAYLIGHT
BEGIN:STANDARD
TZOFFSETFROM:-0500
TZOFFSETTO:-0600
TZNAME:CST
DTSTART:20251102T070000
END:STANDARD
END:VTIMEZONE
BEGIN:VEVENT
DTSTART;TZID=America/Chicago:20240724T110000
DTEND;TZID=America/Chicago:20240724T120000
DTSTAMP:20260423T230620
CREATED:20240625T191000Z
LAST-MODIFIED:20240708T220357Z
UID:10001816-1721818800-1721822400@haystackid.com
SUMMARY:CFIUS Reviews: Strategies for Ensuring Compliance and Strategizing on Foreign Investments
DESCRIPTION:HaystackID Educational Webcast \n\nDate: July 24\, 2024\nTime: 12:00 PM EDT / 11:00 AM CDT\nRegister Now: Registration Page\n\nCFIUS Reviews: Strategies for Ensuring Compliance and Strategizing on Foreign Investments \nBy HaystackID Staff \n\nThe Committee on Foreign Investment in the United States (CFIUS) is increasingly critical in regulating foreign investments that may impact U.S. national security. Join HaystackID’s upcoming July webcast to explore the growing importance of CFIUS and learn practical strategies to handle these reviews successfully. Webcast expert panelist Matt Miller\, Senior Vice President of Information Governance and Data Privacy at HaystackID\, says\, “The landscape of foreign investments is fraught with complexities\, demanding a rigorous adherence to CFIUS mandates.” \nDiscover how selecting the right eDiscovery partner can help you address these complexities\, protect your brand\, and enable growth in the U.S. market while ensuring meticulous compliance with CFIUS regulations. By attending\, you’ll gain insights from CFIUS experts on proactive compliance\, risk management\, and the pivotal role of eDiscovery providers in supporting CFIUS efforts. \n\n\nClick Here to Register Now!\n\nIf you cannot attend the webcast live\, we encourage you to register using the link above. All registrants will receive the webcast transcript and we will publish the transcript on the HaystackID Insights page following the event. \nExpert Panelists\n\n+ Jason Garkey  Chief Security Officer\, Momentus Space \n\nJason Garkey is the Chief Security Officer (CSO) at Momentus Space\, where he played a pivotal role in ensuring the company’s compliance with their National Security Agreement. His responsibilities span across information technology\, physical security\, export control\, and cybersecurity. His efforts led to the termination of Momentus’ CFIUS agreement in January 2024. Before joining Momentus\, Mr. Garkey held the position of Chief Security Officer at Radisson Hotel Group Americas\, where he successfully orchestrated the termination of their CFIUS agreement. His extensive background includes over 27 years of service in the United States Army\, both domestically and overseas. His final assignment was in the Office of the Secretary of Defense as the Senior Military Assistant to the Undersecretary of Defense for Policy. \n\n+ Matt Miller\nSenior Vice President of Information Governance and Data Privacy\, HaystackID \n\nMatthew Miller is a non-practicing attorney with over 18 years of experience. Miller specifically focuses on providing eDiscovery\, information governance\, data privacy\, data protection\, and forensic solutions to his clients. Prior to joining HaystackID\, he was with Consilio\, and prior to that\, Miller spent six years at Ernst & Young LLP (EY) in the Forensic Technology & Discovery Services division of the Fraud Investigations & Dispute Services practice. \n\n\n+ Nate LatessaExecutive Vice President of Advisory Services\, HaystackID\n \nNate Latessa is the Executive Vice President of Advisory Services at Haystack ID. With over two decades of experience\, he is a prominent figure in information governance and eDiscovery. Latessa has been instrumental in devising strategies for effective eDiscovery and information management\, aiding corporations and law firms in handling electronic evidence. His expertise in using advanced eDiscovery tools has streamlined litigation processes\, while his understanding of data and legal compliance has distinguished him in the field. \n\nAbout HaystackID® \nHaystackID solves complex data challenges related to legal\, compliance\, regulatory\, and cyber events. Core offerings include Global Advisory\, Data Discovery Intelligence\, HaystackID Core® Platform\, and AI-enhanced Global Managed Review powered by its proprietary platform\, ReviewRight®. Repeatedly recognized as one of the world’s most trusted legal industry providers by prestigious publishers such as Chambers\, Gartner\, IDC\, and Legaltech News\, HaystackID implements innovative cyber discovery\, enterprise solutions\, and legal and compliance offerings to leading companies and legal practices around the world. HaystackID offers highly curated and customized offerings while prioritizing security\, privacy\, and integrity. For more information about how HaystackID can help solve unique legal enterprise needs\, please visit HaystackID.com. \n\nAssisted by GAI and LLM technologies. \nSource: HaystackID
URL:https://haystackid.com/event/cfius-reviews-strategies-haystackid-webcast/
LOCATION:Virtual\, United States
CATEGORIES:Webcasts
ATTACH;FMTTYPE=image/jpeg:https://haystackid.com/wp-content/uploads/2024/06/2024.06.18-HaystackID-CFIUS-Reviews-Webcast-Header.jpg
GEO:37.09024;-95.712891
END:VEVENT
END:VCALENDAR