BEGIN:VCALENDAR
VERSION:2.0
PRODID:-//HaystackID - ECPv6.15.20//NONSGML v1.0//EN
CALSCALE:GREGORIAN
METHOD:PUBLISH
X-WR-CALNAME:HaystackID
X-ORIGINAL-URL:https://haystackid.com
X-WR-CALDESC:Events for HaystackID
REFRESH-INTERVAL;VALUE=DURATION:PT1H
X-Robots-Tag:noindex
X-PUBLISHED-TTL:PT1H
BEGIN:VTIMEZONE
TZID:America/Chicago
BEGIN:DAYLIGHT
TZOFFSETFROM:-0600
TZOFFSETTO:-0500
TZNAME:CDT
DTSTART:20250309T080000
END:DAYLIGHT
BEGIN:STANDARD
TZOFFSETFROM:-0500
TZOFFSETTO:-0600
TZNAME:CST
DTSTART:20251102T070000
END:STANDARD
BEGIN:DAYLIGHT
TZOFFSETFROM:-0600
TZOFFSETTO:-0500
TZNAME:CDT
DTSTART:20260308T080000
END:DAYLIGHT
BEGIN:STANDARD
TZOFFSETFROM:-0500
TZOFFSETTO:-0600
TZNAME:CST
DTSTART:20261101T070000
END:STANDARD
BEGIN:DAYLIGHT
TZOFFSETFROM:-0600
TZOFFSETTO:-0500
TZNAME:CDT
DTSTART:20270314T080000
END:DAYLIGHT
BEGIN:STANDARD
TZOFFSETFROM:-0500
TZOFFSETTO:-0600
TZNAME:CST
DTSTART:20271107T070000
END:STANDARD
END:VTIMEZONE
BEGIN:VEVENT
DTSTART;VALUE=DATE:20260420
DTEND;VALUE=DATE:20260423
DTSTAMP:20260423T134533
CREATED:20251224T123836Z
LAST-MODIFIED:20260416T173310Z
UID:10001964-1776643200-1776902399@haystackid.com
SUMMARY:2026 Magnet User Summit
DESCRIPTION:   2026 Magnet User Summit\nJoin HaystackID® at the 2026 Magnet User Summit. Digital forensics\, incident response\, and Magnet Forensics users face an ever-evolving landscape driven by advancements in artificial intelligence\, mobile platforms\, cloud investigations\, cyber risk\, and automation. Success demands deep technical skills\, strategic insights\, and a network of peers and experts to share best practices. \nThe 2026 Magnet User Summit returns to Music City — a three-day immersive conference that brings together DFIR practitioners\, investigators\, lab managers\, prosecutors\, corporate security professionals\, and innovators for hands-on learning\, expert-led sessions\, and real-world insights into digital investigation challenges and solutions. \nEvent Details \n+ Date: April 20-22\, 2026\n+ Venue: JW Marriott Nashville\n+ Location: Nashville\, TN \nEvent Details \nLearn more and register for the 2026 Magnet User Summit. \nStrengthen Your Digital Evidence Strategy with the VALID™ Suite\nAs digital evidence becomes increasingly complex to authenticate and defend\, the HaystackID® VALID™ Suite empowers legal teams with a comprehensive framework for verification\, identification\, and authentication of digital media. VALID delivers defensible workflows\, advanced analytics\, and expert-led validation designed to strengthen evidentiary integrity across investigations\, litigation\, and regulatory matters. Connect with our team in person at the 2026 Magnet User Summit to learn how VALID can enhance your approach to digital evidence and support confident\, trusted results in every matter. \n  \n\nAt HaystackID\, we are committed to fostering a safe and respectful environment for all event participants. We stand firmly against all forms of inappropriate behavior. As part of our dedication to ensuring a harassment-free experience\, we actively support and adhere to the principles outlined by the American Sociological Association (ASA) Working Group on Harassment and the National Sexual Violence Resource Center (NSVRC) Employer’s Pledge. We encourage open dialogue\, immediate reporting of misconduct\, and strict adherence to our corporate responsibility efforts to protect our community’s integrity and well-being. Together\, let us create a welcoming and safe environment for all. \nAssisted by GAI and LLM technologies.
URL:https://haystackid.com/event/magnet-user-summit-2026/
LOCATION:JW Marriott – Nashville\, 201 8th Ave S.\, Nashville\, TN\, 37203\, United States
CATEGORIES:Industry Events
ATTACH;FMTTYPE=image/png:https://haystackid.com/wp-content/uploads/2025/12/2026-Magnet-User-Summit_Nashville.png
END:VEVENT
BEGIN:VEVENT
DTSTART;VALUE=DATE:20260422
DTEND;VALUE=DATE:20260423
DTSTAMP:20260423T134533
CREATED:20251211T214512Z
LAST-MODIFIED:20260416T173940Z
UID:10001959-1776816000-1776902399@haystackid.com
SUMMARY:2026 Cyber Insurance Awards USA
DESCRIPTION:2026 Cyber Insurance Awards USA\nHaystackID® is proud to participate in the 2026 Cyber Insurance Awards USA\, hosted by Intelligent Insurer\, as the industry gathers in Chicago on April 22 to recognize excellence\, innovation\, and leadership across the cyber insurance landscape. Now in its third year\, this prestigious event brings together top organizations\, teams\, and individuals for a rigorous\, independently judged awards program—culminating in an evening that celebrates the achievements shaping the future of cyber risk and resilience. \nHaystackID has been named a Company Award Finalist in these categories: \n\nCyber Insurance Incident Response Provider of the Year – HaystackID Verification and Legal Identification/Authentication of Digital Media (VALID™)\nCyber Security Solution Provider of the Year – HaystackID\n\nEvent Details\n+ Date: April 22\, 2026\n+ Venue: Union League Club of Chicago\n+ Location: Chicago\, IL \n\n\nLearn more and join us for the 2026 Cyber Insurance Awards USA. \n\nStrengthen Cyber Incident Response with HaystackID® Cybersecurity Services\nAs cyber threats grow in scale and complexity\, organizations need trusted partners to respond quickly\, investigate thoroughly\, and protect critical data. HaystackID® Cybersecurity Services deliver comprehensive incident response\, digital forensics\, threat analysis\, and breach investigation capabilities to help organizations contain threats\, preserve evidence\, and support defensible legal and regulatory outcomes. By combining deep forensic expertise with scalable discovery and data intelligence solutions\, HaystackID empowers legal\, insurance\, and cybersecurity teams to navigate cyber incidents with confidence. Connect with HaystackID to learn how our cybersecurity services help organizations reduce risk\, accelerate investigations\, and strengthen cyber resilience. \n\n  \n\n\n\nAt HaystackID\, we are committed to fostering a safe and respectful environment for all event participants. We stand firmly against all forms of inappropriate behavior. As part of our dedication to ensuring a harassment-free experience\, we actively support and adhere to the principles outlined by the American Sociological Association (ASA) Working Group on Harassment and the National Sexual Violence Resource Center (NSVRC) Employer’s Pledge. We encourage open dialogue\, immediate reporting of misconduct\, and strict adherence to our corporate responsibility efforts to protect our community’s integrity and well-being. Together\, let us create a welcoming and safe environment for all. \nAssisted by GAI and LLM technologies.
URL:https://haystackid.com/event/2026-cyber-insurance-awards-usa/
LOCATION:Union League Club of Chicago\, 65 W Jackson Blvd\, Chicago\, 60604\, United States
CATEGORIES:Industry Events
ATTACH;FMTTYPE=image/png:https://haystackid.com/wp-content/uploads/2025/12/2026-Cyber-Risk-and-Insurance-Innovation-Conference_Chicago.png
END:VEVENT
BEGIN:VEVENT
DTSTART;TZID=America/Chicago:20260422T110000
DTEND;TZID=America/Chicago:20260422T120000
DTSTAMP:20260423T134533
CREATED:20260311T191118Z
LAST-MODIFIED:20260422T201606Z
UID:10001976-1776855600-1776859200@haystackid.com
SUMMARY:[Webcast] When Seeing Isn’t Believing: Deepfakes\, Digital Evidence\, and Proving Authenticity in the Age of AI
DESCRIPTION:[Webcast] When Seeing Isn’t Believing: Deepfakes\, Digital Evidence\, and Proving Authenticity in the Age of AI (April 22\, 2026)\nArtificial intelligence has fundamentally changed the reliability of digital media as evidence. Images\, video\, and audio\, once treated as inherently trustworthy\, can now be convincingly fabricated using GenAI and deepfake technologies. As synthetic media becomes more accessible and realistic\, legal teams\, investigators\, and organizations face a new evidentiary challenge: determining what is real and proving authenticity in defensible ways. \nDuring the upcoming HaystackID® webcast\, digital forensics experts will examine the growing legal and investigative risks created by manipulated media across litigation\, regulatory matters\, corporate investigations\, and public-facing incidents. \nAttendees will learn: \n\nWhy traditional visual review methods are no longer sufficient.\nHow synthetic media can evade detection.\nWhat courts increasingly expect when authenticity is challenged.\n\nEvent Details\nDuring the timely presentation\, industry leaders will provide practical insight into how digital media authentication works in real-world scenarios\, from early assessment and preservation to forensic analysis and expert testimony. Panelists will explain how chain of custody\, forensic validation\, and documented methodologies strengthen admissibility and defensibility\, and how organizations can build repeatable processes to evaluate and respond to deepfake risks before they escalate into legal\, financial\, or reputational crises. \n+ Orignal Date: Wednesday\, April 22\, 2026 \nExpert Panelists\n\n\n+ Rene Novoa\, CCLO\, CCPA\, CJED  \nVice President of Forensics\, HaystackID \nAs Vice President of Forensics for HaystackID\, Rene Novoa has more than 20 years of technology experience conducting data recovery\, digital forensics\, eDiscovery\, and account management and sales activities. During this time\, Rene has performed investigations in both civil and criminal matters and has directly provided litigation support and forensic analysis for seven years. Rene has regularly worked with ICAC\, HTCIA\, IACIS\, and other regional task forces supporting State Law Enforcement Division accounts and users in his most recent forensic leadership roles. \n+ Jeff Shapiro \nManaging Director\, Europe\, HaystackID \nJeff Shapiro is the Managing Director for Europe at HaystackID where he oversees the development and growth initiatives across the region. Shapiro\, a seasoned legal and technology professional\, brings extensive experience advising on complex\, multijurisdictional matters spanning eDiscovery\, information governance\, cybersecurity\, litigation\, investigation\, and regulatory response. His career includes tenures at several industry-leading professional service firms\, including a top global consultancy and a Magic Circle law firm. Jeff has a reputation for objective\, consultative leadership and a proven track record in building large-scale operations. Jeff has long focused on giving back to the legal technology community in London\, including his ACEDS UK volunteer work and vice president position as well as his past roles as the ILTA UK Litigation Support Chair and a Relativity User Group steering committee member. \n+ Todd Tabor \nSenior Vice President of Forensics\, HaystackID \nIn 2021\, Todd Tabor joined HaystackID and is currently the Vice President of PMO\, Forensics. In this role\, he is responsible for the identification\, hiring\, training\, and development of HaystackID’s Forensic Project Management Team as well as developing the processes and procedures of that team. Prior to joining HaystackID\, Todd was the Executive Vice President of Operations for Veristar. \n+ John Wilson\, ACE\, AME\, CBE [Moderator] \nChief Information Security Officer and President of Forensics\, HaystackID \nAs Chief Information Security Officer and President of Forensics at HaystackID\, John provides consulting and forensic services to help companies address various matters related to electronic discovery and computer forensics\, including leading forensic investigations\, cryptocurrency investigations\, and ensuring proper preservation of evidence items and chain of custody. He regularly develops forensic workflows and processes for clients ranging from major financial institutions to governmental departments\, including Fortune 500 companies and Am Law 100 law firms. \n\n\n\nAbout HaystackID®\nHaystackID® solves complex data challenges related to legal\, compliance\, regulatory\, and cyber requirements. Core offerings include Global Advisory\, Cybersecurity\, Core Intelligence AI™\, and ReviewRight® Global Managed Review\, supported by its unified CoreFlex™ service interface and eDiscovery AI™ technology. Recognized globally by industry leaders\, including Chambers\, Gartner\, IDC\, and Legaltech News\, HaystackID helps corporations and legal practices manage data gravity\, where information demands action\, and workflow gravity\, where critical requirements demand coordinated expertise\, delivering innovative solutions with a continual focus on security\, privacy\, and integrity. Learn more at HaystackID.com. \nAssisted by GAI and LLM technologies. \nSOURCE: HaystackID
URL:https://haystackid.com/event/webcast-when-seeing-isnt-believing-deepfakes-digital-evidence-and-proving-authenticity-in-the-age-of-ai/
LOCATION:Virtual\, United States
CATEGORIES:Webcasts
ATTACH;FMTTYPE=image/png:https://haystackid.com/wp-content/uploads/2026/03/2026.03.04-HaystackID-When-Seeing-Isnt-Believing-Webcast-header.png
GEO:37.09024;-95.712891
END:VEVENT
END:VCALENDAR